BEGIN:VCALENDAR
VERSION:2.0
PRODID:-//ChamberMaster//Event Calendar 2.0//EN
METHOD:PUBLISH
X-PUBLISHED-TTL:P3D
REFRESH-INTERVAL:P3D
CALSCALE:GREGORIAN
BEGIN:VEVENT
DTSTART;VALUE=DATE:20180520
DTEND;VALUE=DATE:20180521
TRANSP:TRANSPARENT
X-MICROSOFT-CDO-ALLDAYEVENT:TRUE
SUMMARY:Flavor of LA
DESCRIPTION:Gourmet Food Sampling from Some of LA's Best Restaurants.  Craft beers\, wines and cocktails.  Car show featuring cars from the television motion picture car club.
X-ALT-DESC;FMTTYPE=text/html:Gourmet Food Sampling from Some of LA&#39\;s Best Restaurants.&nbsp\; Craft beers\, wines and cocktails.&nbsp\; Car show featuring cars from the television motion picture car club.&nbsp\;
LOCATION:CBS Studio Center Backlot 4024 Radford Ave. Studio City\, CA 91604
UID:e.2158.71
SEQUENCE:3
DTSTAMP:20260424T160432Z
URL:http://studiocitychamber.chambermaster.com/events/details/flavor-of-la-71
END:VEVENT

END:VCALENDAR
