BEGIN:VCALENDAR
VERSION:2.0
PRODID:-//ChamberMaster//Event Calendar 2.0//EN
METHOD:PUBLISH
X-PUBLISHED-TTL:P3D
REFRESH-INTERVAL:P3D
CALSCALE:GREGORIAN
BEGIN:VEVENT
DTSTART:20190426T143000Z
DTEND:20190426T173000Z
X-MICROSOFT-CDO-ALLDAYEVENT:FALSE
SUMMARY:HealthX
DESCRIPTION:Adventist Health Glendale\, Main Auditorium 1509 Wilson Terrace\, Glendale\, CA 91206 The Valley Economic Alliance is hosting its fourth HealthX on Friday\, April 26th\; a Ted talk   style event that features presentations and demonstrations by top doctors and health industry leaders sharing advances in health and wellness from 7:30 am   10:30 am at Adventist Health Glendale's Main Auditorium Agenda: Registration\, Networking and Breakfast   7:30 am   8:30 am Program and Presentations   8:30 am   10:30 am Presentations By: Adventist Health Glendale Memorial Care Zenyth Group Additional Speakers and Topics to be announced
X-ALT-DESC;FMTTYPE=text/html:Adventist Health Glendale\, Main Auditorium 1509 Wilson Terrace\, Glendale\, CA 91206 The Valley Economic Alliance is hosting its fourth HealthX on Friday\, April 26th\; a Ted talk &ndash\; style event that features presentations and demonstrations by top doctors and health industry leaders sharing advances in health and wellness from 7:30 am &ndash\; 10:30 am at Adventist Health Glendale&rsquo\;s Main Auditorium Agenda: Registration\, Networking and Breakfast &ndash\; 7:30 am &ndash\; 8:30 am Program and Presentations &ndash\; 8:30 am &ndash\; 10:30 am Presentations By: Adventist Health Glendale Memorial Care Zenyth Group Additional Speakers and Topics to be announced
LOCATION:Adventist Health Glendale\, Main Auditorium 1509 Wilson Terrace\, Glendale\, CA 91206
UID:e.2158.105
SEQUENCE:3
DTSTAMP:20260420T083506Z
URL:http://studiocitychamber.chambermaster.com/events/details/healthx-04-26-2019-105
END:VEVENT

END:VCALENDAR
