BEGIN:VCALENDAR
VERSION:2.0
PRODID:-//ChamberMaster//Event Calendar 2.0//EN
METHOD:PUBLISH
X-PUBLISHED-TTL:P3D
REFRESH-INTERVAL:P3D
CALSCALE:GREGORIAN
BEGIN:VEVENT
DTSTART:20171208T010000Z
DTEND:20171208T040000Z
X-MICROSOFT-CDO-ALLDAYEVENT:FALSE
SUMMARY:Holiday Mixer
DESCRIPTION:Join us and the Chatsworth\, Granada Hills\, Encino\, Universal City/North Hollywood\, and the Sherman Oaks Chambers of Commerce for a fun evening of networking\, country western dance lessons and great grub!
X-ALT-DESC;FMTTYPE=text/html:Join us and the&nbsp\;Chatsworth\, Granada Hills\, Encino\, Universal City/North Hollywood\,&nbsp\;and the Sherman Oaks Chambers of Commerce for a fun evening of networking\, country western dance lessons and great grub!&nbsp\;
LOCATION:Cowboy Palace 21635 Devonshire St\, Chatsworth\, CA
UID:e.2158.56
SEQUENCE:3
DTSTAMP:20260425T174336Z
URL:http://studiocitychamber.chambermaster.com/events/details/holiday-mixer-56
END:VEVENT

END:VCALENDAR
