BEGIN:VCALENDAR
VERSION:2.0
PRODID:-//ChamberMaster//Event Calendar 2.0//EN
METHOD:PUBLISH
X-PUBLISHED-TTL:P3D
REFRESH-INTERVAL:P3D
CALSCALE:GREGORIAN
BEGIN:VEVENT
DTSTART:20190918T180000Z
DTEND:20190918T200000Z
X-MICROSOFT-CDO-ALLDAYEVENT:FALSE
SUMMARY:Mayor's Luncheon
DESCRIPTION:Join us for United Chambers of Commerce Annual Mayor's Luncheon. Network with business owners and managers from all over the valley.  Listen to the Mayor speak about issues that affect local businesses.
X-ALT-DESC;FMTTYPE=text/html:Join us for United Chambers of Commerce Annual Mayor&#39\;s Luncheon. Network with business owners and managers from all over the valley.&nbsp\; Listen to the Mayor speak about issues that affect local businesses.&nbsp\;&nbsp\;
LOCATION:Warner Center Marriott 21850 W Oxnard St. Woodland Hills\, CA 91367
UID:e.2158.125
SEQUENCE:3
DTSTAMP:20260419T125123Z
URL:http://studiocitychamber.chambermaster.com/events/details/mayor-s-luncheon-125
END:VEVENT

END:VCALENDAR
