BEGIN:VCALENDAR
VERSION:2.0
PRODID:-//ChamberMaster//Event Calendar 2.0//EN
METHOD:PUBLISH
X-PUBLISHED-TTL:P3D
REFRESH-INTERVAL:P3D
CALSCALE:GREGORIAN
BEGIN:VEVENT
DTSTART:20180504T013000Z
DTEND:20180504T040000Z
X-MICROSOFT-CDO-ALLDAYEVENT:FALSE
SUMMARY:Mixer
DESCRIPTION:Join us for a great time to network with members of other valley chambers and the Los Angeles Gay & Lesbian Chamber. Don't forget to bring business cards!
X-ALT-DESC;FMTTYPE=text/html:Join us for a great time to network with members of other valley chambers and the Los Angeles Gay &amp\; Lesbian Chamber. Don&#39\;t forget to bring business cards!&nbsp\;
LOCATION:Warner Center Marriott Woodland Hills 21850 Oxnard St Woodland Hills\, CA 91367
UID:e.2158.80
SEQUENCE:3
DTSTAMP:20260423T052541Z
URL:http://studiocitychamber.chambermaster.com/events/details/mixer-80
END:VEVENT

END:VCALENDAR
