BEGIN:VCALENDAR
VERSION:2.0
PRODID:-//ChamberMaster//Event Calendar 2.0//EN
METHOD:PUBLISH
X-PUBLISHED-TTL:P3D
REFRESH-INTERVAL:P3D
CALSCALE:GREGORIAN
BEGIN:VEVENT
DTSTART:20180627T000000Z
DTEND:20180627T020000Z
X-MICROSOFT-CDO-ALLDAYEVENT:FALSE
SUMMARY:Mixer
DESCRIPTION:Join us and the Sherman Oaks Chamber at a ribbon cutting and mixer at Frida  Restaurant.
X-ALT-DESC;FMTTYPE=text/html:Join us and the Sherman Oaks Chamber at a ribbon cutting and mixer at&nbsp\;Frida&nbsp\; Restaurant.&nbsp\;
LOCATION:Frida 15301 Ventura Blvd. Sherman Oaks\, CA 91403
UID:e.2158.83
SEQUENCE:3
DTSTAMP:20260422T220146Z
URL:http://studiocitychamber.chambermaster.com/events/details/mixer-83
END:VEVENT

END:VCALENDAR
