BEGIN:VCALENDAR
VERSION:2.0
PRODID:-//ChamberMaster//Event Calendar 2.0//EN
METHOD:PUBLISH
X-PUBLISHED-TTL:P3D
REFRESH-INTERVAL:P3D
CALSCALE:GREGORIAN
BEGIN:VEVENT
DTSTART:20190607T140000Z
DTEND:20190607T163000Z
X-MICROSOFT-CDO-ALLDAYEVENT:FALSE
SUMMARY:Small Business Awards
DESCRIPTION:Join us for the Small Business Breakfast with United Chambers of Commerce.  Chambers gather to honor and award businesses across the valley for their contribution to the local community.  Studio City will be presenting the award to Keller Williams.
X-ALT-DESC;FMTTYPE=text/html:Join us for the Small Business Breakfast with United Chambers of Commerce.&nbsp\; Chambers gather to honor and award businesses across the valley for their contribution to the local community.&nbsp\; Studio City will be presenting the award to Keller Williams.&nbsp\;&nbsp\;&nbsp\;&nbsp\;&nbsp\;&nbsp\;&nbsp\;&nbsp\;&nbsp\;
LOCATION:Airtel Plaza Hotel 7277 Valjean Ave. Van Nuys\, CA 91406
UID:e.2158.111
SEQUENCE:3
DTSTAMP:20260422T194453Z
URL:http://studiocitychamber.chambermaster.com/events/details/small-business-awards-111
END:VEVENT

END:VCALENDAR
