BEGIN:VCALENDAR
VERSION:2.0
PRODID:-//ChamberMaster//Event Calendar 2.0//EN
METHOD:PUBLISH
X-PUBLISHED-TTL:P3D
REFRESH-INTERVAL:P3D
CALSCALE:GREGORIAN
BEGIN:VEVENT
DTSTART:20180302T153000Z
DTEND:20180302T170000Z
X-MICROSOFT-CDO-ALLDAYEVENT:FALSE
SUMMARY:Valley Networking Alliance Breakfast
DESCRIPTION:Join us for breakfast and an intentional time of networking with others from all over the valley.
X-ALT-DESC;FMTTYPE=text/html:Join us for breakfast and an intentional time of networking with others from all over the valley.&nbsp\;
LOCATION:The Monterey at Encino 16821 Burbank Blvd Encino\, CA 91436
UID:e.2158.63
SEQUENCE:3
DTSTAMP:20260425T032852Z
URL:http://studiocitychamber.chambermaster.com/events/details/valley-networking-alliance-breakfast-63
END:VEVENT

END:VCALENDAR
