BEGIN:VCALENDAR
VERSION:2.0
PRODID:-//ChamberMaster//Event Calendar 2.0//EN
METHOD:PUBLISH
X-PUBLISHED-TTL:P3D
REFRESH-INTERVAL:P3D
CALSCALE:GREGORIAN
BEGIN:VEVENT
DTSTART:20180907T143000Z
DTEND:20180907T160000Z
X-MICROSOFT-CDO-ALLDAYEVENT:FALSE
SUMMARY:Valley Networking Alliance Breakfast
DESCRIPTION:Multi-Chamber Networking Breakfast with other valley chambers.
X-ALT-DESC;FMTTYPE=text/html:Multi-Chamber Networking Breakfast with other valley chambers.&nbsp\;
LOCATION:The Monterey at Encinco 16821 Burbank Blvd. Encinco\, CA
UID:e.2158.88
SEQUENCE:3
DTSTAMP:20260421T214522Z
URL:http://studiocitychamber.chambermaster.com/events/details/valley-networking-alliance-breakfast-88
END:VEVENT

END:VCALENDAR
