BEGIN:VCALENDAR
VERSION:2.0
PRODID:-//ChamberMaster//Event Calendar 2.0//EN
METHOD:PUBLISH
X-PUBLISHED-TTL:P3D
REFRESH-INTERVAL:P3D
CALSCALE:GREGORIAN
BEGIN:VEVENT
DTSTART:20180725T160000Z
DTEND:20180725T180000Z
X-MICROSOFT-CDO-ALLDAYEVENT:FALSE
SUMMARY:VITA Global Networking Breakfast- Global E-Commerce
DESCRIPTION:Speaker: Humphrey Ho\, Managing Partner\, Hylink USA - Learn about the current state of e-commerce from a China perspective - Compare the industry in China to other APAC countries - Explore e-commerce giants in China and current trends - Cross-border e-commerce opportunities Visit www.tinyurl.com/VITAJuly2018 to register!
X-ALT-DESC;FMTTYPE=text/html:Speaker: Humphrey Ho\, Managing Partner\, Hylink USA - Learn about the current state of e-commerce from a China perspective - Compare the industry in China to other APAC countries - Explore e-commerce giants in China and current trends - Cross-border e-commerce opportunities Visit www.tinyurl.com/VITAJuly2018 to register!
LOCATION:The Valley Economic Alliance BFG Boardroom on 2nd Floor 5121 Van Nuys Blvd. Sherman Oaks\, 91403
UID:e.2158.84
SEQUENCE:3
DTSTAMP:20260422T145332Z
URL:http://studiocitychamber.chambermaster.com/events/details/vita-global-networking-breakfast-global-e-commerce-84
END:VEVENT

END:VCALENDAR
